BEGIN:VCALENDAR
VERSION:2.0
PRODID:-//wp-events-plugin.com//7.2.3.1//EN
TZID:Africa/Lagos
X-WR-TIMEZONE:Africa/Lagos
BEGIN:VEVENT
UID:8@britechplusgroup.com.ng
DTSTART;TZID=Africa/Lagos:20240622T100000
DTEND;TZID=Africa/Lagos:20250430T160000
DTSTAMP:20250104T145450Z
URL:https://britechplusgroup.com.ng/events/environmental-social-and-govern
 ance-esg-essentials/
SUMMARY:Environmental\, Social\, and Governance (ESG) Essentials
DESCRIPTION:\n\nCourse Overview\nThe Environmental\, Social\, and Governanc
 e (ESG) Essentials training is an introductory course that aims to equip p
 articipants with a basic understanding of ESG principles and practices. Th
 is course provides an overview of the key concepts related to ESG and its 
 Pillars and provides information on the ISO Standards that support each Pi
 llar of ESG.\n\nCourse Outline\n\n\n\n\n\n\nLearning Objectives\n• Know 
 and understand the fundamental concepts of Corporate Sustainability\, its 
 importance\, and its pillars.\n• Know and understand the fundamental con
 cepts of the Environmental\, Social\, and Governance (ESG) movement\, its 
 factors\, and its impact on organizations.\n• Know and understand the ES
 G Pillars and how ISO Standards support the management of each pillar.\n
 • Get familiar with the ESG evolution and regulations such as the Global
  Reporting Initiative (GRI)\, UN Global Compact\, UN Sustainable Developme
 nt Goals (SDGs)\, etc.\n\nTarget Audience\nThe ESG Essentials training cou
 rse is ideal for individuals looking to grasp the fundamental aspects of E
 SG in the context of business and sustainability. This course is suitable 
 for a wide range of professionals\, including:\n\n• Entry-level employee
 s\n• Small business owners\n• Students\n• Environmental enthusiasts\
 nCourse Details\nDuration: 1 Day\nLanguage: English\nDelivery: online\nTra
 ining Date - June 2024 - June 2025. - Flexible Date on request.\nTime: 12:
 00 PM to P:00 PM (WAT).\n\nTraining\, Exam and Certification fee: ₦50\,0
 00.00\n20% Discount for the first 10 confirmed participants\n\n\nAccount N
 ame: BRITECH PLUS+ ENTERPRISES\n\nBank : FCMB\n\nAccount No.: 4792451012 -
  CURRENT\n\nPlease forward evidence of payment to 08118020929\n\nNote: Bri
 tech Plus+ Enterprises does not employ agents for payment collection. Plea
 se exercise caution and be aware of online fraudsters.\n\n\n\n\n\n\n\n\n\n
 \n\n&nbsp\;\n\n\n\n\n\n\n\n
ATTACH;FMTTYPE=image/jpeg:https://britechplusgroup.com.ng/wp-content/uploa
 ds/2024/04/ESG-Banner.png
CATEGORIES:Professional Training,Treccert
END:VEVENT
BEGIN:VTIMEZONE
TZID:Africa/Lagos
X-LIC-LOCATION:Africa/Lagos
BEGIN:STANDARD
DTSTART:20230623T100000
TZOFFSETFROM:+0100
TZOFFSETTO:+0100
TZNAME:WAT
END:STANDARD
END:VTIMEZONE
END:VCALENDAR