BEGIN:VCALENDAR
VERSION:2.0
PRODID:-//wp-events-plugin.com//7.2.3.1//EN
TZID:Africa/Lagos
X-WR-TIMEZONE:Africa/Lagos
BEGIN:VEVENT
UID:3@britechplusgroup.com.ng
DTSTART;TZID=Africa/Lagos:20240201T110000
DTEND;TZID=Africa/Lagos:20241231T040000
DTSTAMP:20240201T113850Z
URL:https://britechplusgroup.com.ng/events/iso-22000-food-safety-managemen
 t-system-training-courses/
SUMMARY:ISO 22000 Food Safety Management System - Training Courses
DESCRIPTION:In the 20th century\, humanity saw unprecedented socio-economic
  changes as well as scientific and technological advances. These factors i
 mpacted\, among others\, how food is produced\, processed\, and marketed: 
 countries enacted food safety laws\, companies began to use scientific met
 hods to make food safer\, technology allowed better packaging and quality 
 assurance\, and public awareness increased dramatically. Overall\, food be
 came safer and more nutritious.\n\nYet\, in the 21st century many challeng
 es remain. According to WHO estimates\, 600 million people become sick a
 nd 420\,000 die each year from unsafe food. Globalization and complex supp
 ly chains make controls and traceability more difficult. Climate change is
  likely to present direct and indirect challenges to food safety. In all o
 f this\, food producers will have to overcome new challenges and meet new 
 expectations. However\, they are not alone: ISO 22000 is here to help them
  fulfill their responsibility of ensuring the safety of their products and
  the well-being of their consumers.\n\nA food safety management system (FS
 MS) based on ISO 22000 not only can improve a food producer’s measures a
 gainst foodborne illnesses and diseases\, it can also improve their credib
 ility and increase customer awareness on food safety.\nWhat is ISO 22000?\
 nISO 22000 is an international standard that specifies requirements for a
  food safety management system. An FSMS based on ISO 22000 gives food prod
 ucers a structured approach and necessary mechanisms to manage the safety 
 of their products and services. As part of the FSMS\, ISO 22000 requires t
 he establishment of effective communication with interested parties\, impl
 ementing a risk-based approach\, establishing and maintaining prerequisite
  programs\, hazard control plans (OPRPs and CCPs)\, monitoring the perform
 ance of FSMS and food safety\, and seeking and realizing continual improve
 ment opportunities.\n\nISO 22000 adopts a process approach which integrate
 s the plan-do-check-act (PDCA) cycle and risk-based thinking at organizati
 onal and operational levels. Organizations seeking to implement an FSMS ba
 sed on ISO 22000 must establish a food safety policy and set the food safe
 ty objectives. The policy and objectives must be established by the top ma
 nagement\, and a traceability system should be implemented to trace the pr
 oducts through the supply chain.\n\nThe requirements of ISO 22000 are gene
 ric and applicable to all organizations in the food chain\, regardless of 
 their size or complexity. ISO 22000 is developed according to the High-Le
 vel Structure (HLS)\, as such it is aligned with other ISO management sys
 tem standards. This allows organizations to integrate an FSMS with other m
 anagement systems such as a QMS based on ISO 9001\, an EMS based on ISO 14
 001\, etc. In addition\, ISO 22000 encourages organizations to align with 
 other guidelines\, specifications\, or requirements related to food safety
  or to specific food sectors which can further contribute to achieve the f
 ood safety objectives.\nBenefits of ISO 22000 for food producers\nThe impl
 ementation of an FSMS can be highly beneficial for food producers that see
 k to improve their food safety performance. It ensures the application of 
 adequate controls and procedures to ensure food safety.\n\nAn effective FS
 MS based on ISO 22000\n\n\nWhy is ISO 22000 important for you?\nAs the com
 panies in the food industry prepare to face the challenges of the 21st cen
 tury\, they will need mechanisms that ensure the safety of their products 
 and services\, and they will have to maintain and improve customer satisfa
 ction and confidence. As such\, these companies need competent individuals
  with proven credentials to establish\, implement\, audit\, and maintain m
 easures that ensure food safety.\n\nAn ISO 22000 certificate ensures a for
 mal and independent recognition of your professional competences. PECB tra
 ining courses are designed to enhance your knowledge and comprehension of 
 ISO 22000 requirements and best practices of food safety. Specifically\, o
 ur ISO 22000 Lead Implementer training course enables you to help\, suppor
 t\, and guide organizations to establish\, implement\, maintain\, and cont
 inually improve an FSMS based on ISO 22000. Our ISO 22000 Lead Auditor tra
 ining course acquaints you with an auditing approach that is based on inte
 rnationally recognized standards and good practices.\nWhy choose PECB for 
 an ISO 22000 certification?\nBy successfully completing a PECB ISO 22000 t
 raining course and obtaining a certification\, among others\, you will be 
 able to:\n\n 	Comprehend the main concepts and principles of food safety m
 anagement\n 	Support and guide organizations in improving their general pe
 rformance in food safety\n 	Understand the best practices and adequate con
 trols necessary in the food chain\n 	Help organizations prevent and reduce
  the risks of contaminants in their products and work environment\n 	Help 
 organizations establish a traceability system\n 	Support organizations in 
 creating and protecting value\n 	Help organizations gain competitive advan
 tage\n 	Determine whether an organization’s FSMS conforms to ISO 22000 r
 equirements\n 	Enable organizations achieve their food safety objectives\n
 \nHow do I get started?\nWe at PECB are excited to welcome you to our glob
 al network. We will assist you throughout the entire process in order to o
 ffer you a worthwhile experience. \n\nClick here to begin with the first 
 step!\nPECB Certified ISO 22000 available training courses\nEnhance your k
 nowledge and expertise on food safety management by participating in our I
 SO 22000 training courses. Check the training courses below and find the o
 ne that suits you best.
ATTACH;FMTTYPE=image/jpeg:https://britechplusgroup.com.ng/wp-content/uploa
 ds/2024/02/ISO-22000-1.png
CATEGORIES:Professional Training
END:VEVENT
BEGIN:VTIMEZONE
TZID:Africa/Lagos
X-LIC-LOCATION:Africa/Lagos
BEGIN:STANDARD
DTSTART:20230201T110000
TZOFFSETFROM:+0100
TZOFFSETTO:+0100
TZNAME:WAT
END:STANDARD
END:VTIMEZONE
END:VCALENDAR